Workbook

Sheet ID SGA Attachment 3
B1: Populate the following fields with itemized project budget information for each of the projects awarded to and operated by the Subgrantee. Note: one Budget must be completed per project. This should be populated based on the most current, accurate information available, and therefore may vary from information you originally provided in the project application.
B2: INSTRUCTIONS 1. In cell B4 (blue box), select the Existing Project Number from the dropdown list. Once selected, cells C5:C8 and D5:D8 will auto-populate with the NTIA-approved funding amounts, Total Project Cost, and percentages from the Final Proposal. Review these fields for understanding and acknowledgement. 2. In cell B11 (blue box), select the PAC Round Project Name from the dropdown list. Once selected, cells C12:C15 and D12:D15 will auto-populate with the approved PAC Round funding amounts, Total Project Cost, and percentages. Review these fields for understanding and acknowledgement. 3. The combined-project section is in cells B18:D22. Cell B18 will display “Combined” until both dropdown selections have been made; it will then display the Existing Project Number and PAC Round Project Name together. Once both projects are selected, cells C19:C22 and D19:D22 will automatically calculate the combined Federal BEAD Funding, Subgrantee Match, Other Match, Total Project Cost, and percentages. Review these final amended project amounts for understanding and acknowledgement. 4. Fill out the expected allocation ($ amount) of the combined Total Project Cost for each cost category in the GREEN cells in rows 28–52. Grey fields will populate with subtotals and totals as you complete the sections. 5. The sum of all cost categories in cell I55 should equal the combined Total Project Cost in cell C22. You may enter $0 for fields that are not applicable to the project. The information provided here will be included in the Subgrantee Agreement (Attachment 3).
B3: Cell B4: PROJECT NUMBER (for cell B4, select ONE Project Number from dropdown list; the amounts in C5, C6 and C7 will then auto-populate with the NTIA-approved amounts from the Final Proposal)
B4: Select Project Number Here | C4: Dollars | D4: Percent of Total Project Costs
B5: Federal BEAD Funding | C5: =IF($B$4="","",_xlfn.XLOOKUP($B$4,'FOR INTERNAL USE ONLY'!A:A,'FOR INTERNAL USE ONLY'!B:B,"",0)) -> 0 | D5: =C5/C8 -> #DIV/0!
B6: Subgrantee Match | C6: =IF($B$4="","",_xlfn.XLOOKUP($B$4,'FOR INTERNAL USE ONLY'!A:A,'FOR INTERNAL USE ONLY'!C:C)) -> 0 | D6: =C6/C8 -> #DIV/0!
B7: Other Match (if applicable) | C7: =IF($B$4="","",_xlfn.XLOOKUP($B$4,'FOR INTERNAL USE ONLY'!$A:$A,'FOR INTERNAL USE ONLY'!$D:$D)) -> 0 | D7: =C7/C8 -> #DIV/0!
B8: Total Project Cost | C8: =SUM(C5:C7) -> 0 | D8: =SUM(D5:D7) -> #DIV/0!
B10: Cell B11: PAC PROJECT NAME (for cell B11, select ONE Project Name from dropdown list; the amounts in C12, C13 and C15 will then auto-populate with the approved amounts from the PAC round)
B11: Select PAC Round Project Name Here | C11: Dollars | D11: Percent of Total Project Costs
B12: Federal BEAD Funding | C12: =IF($B$11="","",_xlfn.XLOOKUP($B$11,'FOR INTERNAL USE ONLY'!H:H,'FOR INTERNAL USE ONLY'!I:I,"",0)) -> 0 | D12: =C12/C15 -> #DIV/0!
B13: Subgrantee Match | C13: =IF($B$11="","",_xlfn.XLOOKUP($B$11,'FOR INTERNAL USE ONLY'!H:H,'FOR INTERNAL USE ONLY'!J:J)) -> 0 | D13: =C13/C15 -> #DIV/0!
B14: Other Match (if applicable) | C14: =IF($B$11="","",_xlfn.XLOOKUP($B$11,'FOR INTERNAL USE ONLY'!$H:$H,'FOR INTERNAL USE ONLY'!$K:$K)) -> 0 | D14: =C14/C15 -> #DIV/0!
B15: Total Project Cost | C15: =SUM(C12:C14) -> 0 | D15: =SUM(D12:D14) -> #DIV/0!
B17: For this section, complete the table so that the Existing Project and the PAC Round Project finances are combined into this table. This table will represent your FINAL Amended Project BEAD Funding and Subgrantee Match Amount. This will be the document that will be updated and attached to your Subgrantee Agreement.
B18: =IF(OR(B4="Select Project Number Here",B11="Select PAC Round Project Name Here"),"Combined",_xlfn.CONCAT(B4," plus ",B11," Combined")) -> Combined | C18: Dollars | D18: Percent of Total Project Costs
B19: Federal BEAD Funding | C19: =C5+C12 -> 0 | D19: =C19/C22 -> #DIV/0!
B20: Subgrantee Match | C20: =C6+C13 -> 0 | D20: =C20/C22 -> #DIV/0!
B21: Other Match (if applicable) | C21: =C7+C14 -> 0 | D21: =C21/C22 -> #DIV/0!
B22: Total Project Cost | C22: =SUM(C19:C21) -> 0 | D22: =SUM(D19:D21) -> #DIV/0!
B24: Budget Template - Green cells are to be filled out | D24: Projected Total Cost
B25: Budget Cost Category | C25: Description | D25: Pre-Award Costs | E25: Year 1 | F25: Year 2 | G25: Year 3 | H25: Year 4 | I25: Total
B27: Professional Services
B28: Professional Services hired for program management, staff, planning and compliance | C28: External staff personnel costs, including salaries and fringe benefits for staff and consultants providing services directly connected to the implementation of the BEAD Program (such as project managers, program directors, and subject matter experts). | H28: 0 | I28: =SUM(D28:H28) -> 0
B29: Professional services hired for legal services | C29: External staff that provides professional services for legal expenses tied to construction. | H29: 0 | I29: =SUM(D29:H29) -> 0
B30: Professional services hired for engineering design or environmental and historic preservation reviews | C30: External staff hired for engineering design, permitting, and work related to environmental, historical and cultural reviews. | D30: 0 | E30: 0 | F30: 0 | G30: 0 | H30: 0 | I30: =SUM(D30:H30) -> 0
B31: Subtotals | D31: =SUM(D28:D30) -> 0 | E31: =SUM(E28:E30) -> 0 | F31: =SUM(F28:F30) -> 0 | G31: =SUM(G28:G30) -> 0 | H31: =SUM(H28:H30) -> 0
B32: Construction Services
B33: Construction Services | C33: Physical construction activities/labor required to deploy broadband infrastructure. Includes trenching, boring, digging, tower erection, building improvements, make-ready work, site preparation, splicing work, restoration, and construction contractor costs. | F33: 0 | G33: 0 | H33: 0 | I33: =SUM(D33:H33) -> 0
B34: Outside Plant, Towers, and Poles
B35: Outside Plant, Towers, and Poles | C35: Materials related to installing outside plant infrastructure: fiber, conduit, poles, towers, anchors, splice enclosures, cabinets, huts, shelters, and backup power. | D35: 0 | E35: 0 | F35: 0 | G35: 0 | H35: 0 | I35: =SUM(D35:H35) -> 0
B36: Network and Access Equipment
B37: Network equipment and physical hardware | C37: Electronics and hardware required to light and operate the network. Includes routers, switches, optical line terminals, wireless radios, antennas, access equipment, transport equipment, and related components. | D37: 0 | E37: 0 | F37: 0 | G37: 0 | H37: 0 | I37: =SUM(D37:H37) -> 0
B38: Network software and upgrades | C38: Network software upgrades, including, but not limited to, cybersecurity solutions. | D38: 0 | E38: 0 | F38: 0 | G38: 0 | H38: 0 | I38: =SUM(D38:H38) -> 0
B39: Subtotals | D39: =SUM(D37:D38) -> 0 | E39: =SUM(E37:E38) -> 0 | F39: =SUM(F37:F38) -> 0 | G39: =SUM(G37:G38) -> 0 | H39: =SUM(H37:H38) -> 0
B40: Operating Equipment
B41: Operating Equipment | C41: Equipment used to support project activities, such as work trucks, trailers, bucket trucks, tools, office equipment, furniture, fixtures, storage systems, and general-use machinery. | D41: 0 | E41: 0 | F41: 0 | G41: 0 | H41: 0 | I41: =SUM(D41:H41) -> 0
B42: [LEO ONLY] Customer Premise Equipment (CPE)
B43: [LEO ONLY] Customer Premise Equipment (CPE) | C43: Devices installed at the customer location to deliver broadband service. Includes ONTs, customer modems, Wi-Fi routers, in-home network equipment, and related setup materials. | D43: 0 | E43: 0 | F43: 0 | G43: 0 | H43: 0 | I43: =SUM(D43:H43) -> 0
B44: Contingency Funds
...

Sheet FOR INTERNAL USE ONLY
A1: project_id | B1: bead_support | C1: subgrantee_match | D1: other_match | H1: Project Name | I1: BEAD Request Amount | J1: Applicant Contribution Match Amount | K1: Other_match
A2: Select Project Number Here | H2: Select PAC Round Project Name Here
A3: CM61-BEAD-ID-007067 | B3: 4019796 | C3: 850318 | H3: AnthemBroadband_Bingham_Blackfoot_1295 | I3: 920462 | J3: 306821
A4: CM61-BEAD-ID-007072 | B4: 10641940 | C4: 3547312 | H4: AnthemBroadband_Bonneville_IdahoFalls_1058 | I4: 365840 | J4: 121947
A5: CM61-BEAD-ID-007074 | B5: 162966.5 | C5: 277483.5 | H5: AnthemBroadband_Lincoln_Shoshone_1363_1364_1528 | I5: 593766 | J5: 197923
A6: CM61-BEAD-ID-007075 | B6: 1811284.6 | C6: 452821.15 | H6: ATC_CUSTER_MACKAY | I6: 717712.5 | J6: 239237.5
A7: CM61-BEAD-ID-007078 | B7: 107623.48 | C7: 35874.49 | H7: Directcom_Bannock_ArimoVirginia_01 | I7: 1152967 | J7: 384323
A8: CM61-BEAD-ID-007079 | B8: 30315.46 | C8: 10105.15 | H8: Directcom_Bannock_Inkom_## | I8: 3282236 | J8: 1094079
A9: CM61-BEAD-ID-007081 | B9: 1146532.6 | C9: 382177.54 | H9: Directcom_Bannock_LavaHotSprings_02 | I9: 383471 | J9: 127824
A10: CM61-BEAD-ID-007082 | B10: 5560009 | C10: 2194689 | H10: Directcom_Bannock_LavaHotSprings-01 | I10: 4596795 | J10: 1532265
A11: CM61-BEAD-ID-007083 | B11: 662648.88 | C11: 220882.97 | H11: Directcom_Bannock_LavaHotSprings-03 | I11: 1943152 | J11: 1046313
A12: CM61-BEAD-ID-007084 | B12: 200210 | C12: 66737 | H12: Directcom_Bannock_LavaHotSprings-04 | I12: 636131 | J12: 212044
A13: CM61-BEAD-ID-007085 | B13: 110208.18 | C13: 36736.06 | H13: Directcom_Bannock_McCammon_01 | I13: 2075411 | J13: 691804
A14: CM61-BEAD-ID-007086 | B14: 2720100 | C14: 906700 | H14: Directcom_BearLake_FishHaven_01 | I14: 1092676 | J14: 1639014
... A37: CM61-BEAD-ID-007129 | B37: 834652.56 | C37: 277615.39 | H37: WhiteCloudCommunications_Valley_Hybrid6 | I37: 17526441 | J37: 5842146.9
A38: CM61-BEAD-ID-007131 | B38: 799500 | C38: 217482.5
A39: CM61-BEAD-ID-007132 | B39: 276306.98 | C39: 92102.33
A40: CM61-BEAD-ID-007133 | B40: 10163050 | C40: 3400000
A41: CM61-BEAD-ID-007134 | B41: 2804831.2 | C41: 1068929
A42: CM61-BEAD-ID-007135 | B42: 127974.72 | C42: 42658.24
A43: CM61-BEAD-ID-007139 | B43: 773412.14 | C43: 257804.05
A44: CM61-BEAD-ID-007141 | B44: 27474339 | C44: 3275162.4 | D44: 5882950.5
A45: CM61-BEAD-ID-007142 | B45: 12724183 | C45: 2532253.4 | D45: 3997620.7
A46: CM61-BEAD-ID-007143 | B46: 1708638.9 | C46: 569546.3
A47: CM61-BEAD-ID-007144 | B47: 308867 | C47: 2019883
A48: CM61-BEAD-ID-007145 | B48: 8179122 | C48: 2726374
A49: CM61-BEAD-ID-007146 | B49: 1868994 | C49: 622997.99
A50: CM61-BEAD-ID-007147 | B50: 1992519.5 | C50: 664173.16
A51: CM61-BEAD-ID-007148 | B51: 9897825.5 | C51: 3299275.2
A52: CM61-BEAD-ID-007151 | B52: 3094064 | C52: 1031354.7
A53: CM61-BEAD-ID-007156 | B53: 3614910.9 | C53: 1204970.3
A54: CM61-BEAD-ID-007158 | B54: 721500 | C54: 1336256.2
A55: CM61-BEAD-ID-007160 | B55: 8788569.6 | C55: 2929523.2
A56: CM61-BEAD-ID-007167 | B56: 3039246 | C56: 1013082
A57: CM61-BEAD-ID-007168 | B57: 2652114 | C57: 884038
... A96: CM61-BEAD-ID-007342 | B96: 714773.49 | C96: 238256
